Package: GeneTonic Version: 3.2.0 Command: /Library/Frameworks/R.framework/Resources/bin/R CMD INSTALL GeneTonic StartedAt: 2025-04-21 15:41:54 -0400 (Mon, 21 Apr 2025) EndedAt: 2025-04-21 15:43:04 -0400 (Mon, 21 Apr 2025) EllapsedTime: 69.9 seconds RetCode: 0 Status: OK