Package: GeneSelectMMD Version: 2.53.0 Command: /home/biocbuild/R/R/bin/R CMD build --keep-empty-dirs --no-resave-data GeneSelectMMD StartedAt: 2025-10-20 23:57:58 -0000 (Mon, 20 Oct 2025) EndedAt: 2025-10-20 23:58:13 -0000 (Mon, 20 Oct 2025) EllapsedTime: 15.0 seconds RetCode: 0 Status: OK PackageFile: GeneSelectMMD_2.53.0.tar.gz PackageFileSize: 439.7 KiB