Package: GeneSelectMMD Version: 2.53.0 Command: F:\biocbuild\bbs-3.22-bioc\R\bin\R.exe CMD INSTALL GeneSelectMMD StartedAt: 2025-08-14 15:37:29 -0400 (Thu, 14 Aug 2025) EndedAt: 2025-08-14 15:38:04 -0400 (Thu, 14 Aug 2025) EllapsedTime: 34.4 seconds RetCode: 0 Status: OK