Package: GeneSelectMMD Version: 2.53.0 Command: chmod a+r GeneSelectMMD -R && F:\biocbuild\bbs-3.22-bioc\R\bin\R.exe CMD build --keep-empty-dirs --no-resave-data GeneSelectMMD StartedAt: 2025-08-14 20:24:39 -0400 (Thu, 14 Aug 2025) EndedAt: 2025-08-14 20:25:03 -0400 (Thu, 14 Aug 2025) EllapsedTime: 24.5 seconds RetCode: 0 Status: OK PackageFile: GeneSelectMMD_2.53.0.tar.gz PackageFileSize: 311.5 KiB