Package: GeneRegionScan Version: 1.65.0 Command: /home/biocbuild/R/R/bin/R CMD build --keep-empty-dirs --no-resave-data GeneRegionScan StartedAt: 2025-10-20 23:57:57 -0000 (Mon, 20 Oct 2025) EndedAt: 2025-10-20 23:58:45 -0000 (Mon, 20 Oct 2025) EllapsedTime: 48.0 seconds RetCode: 0 Status: OK PackageFile: GeneRegionScan_1.65.0.tar.gz PackageFileSize: 7.476 MiB