Package: GeneOverlap Version: 1.46.0 Command: /home/biocbuild/R/R/bin/R CMD INSTALL GeneOverlap StartedAt: 2025-11-10 21:06:05 -0000 (Mon, 10 Nov 2025) EndedAt: 2025-11-10 21:06:50 -0000 (Mon, 10 Nov 2025) EllapsedTime: 44.4 seconds RetCode: 0 Status: OK