Package: GeneOverlap Version: 1.46.0 Command: /home/biocbuild/bbs-3.22-bioc/R/bin/R CMD check --install=check:GeneOverlap.install-out.txt --library=/home/biocbuild/bbs-3.22-bioc/R/site-library --timings GeneOverlap_1.46.0.tar.gz StartedAt: 2025-11-06 23:50:31 -0500 (Thu, 06 Nov 2025) EndedAt: 2025-11-06 23:50:56 -0500 (Thu, 06 Nov 2025) EllapsedTime: 25.0 seconds RetCode: 0 Status: OK CheckDir: GeneOverlap.Rcheck Warnings: 0