Package: GeneNetworkBuilder Version: 1.52.0 Command: /home/biocbuild/R/R/bin/R CMD check --install=check:GeneNetworkBuilder.install-out.txt --library=/home/biocbuild/R/R/site-library --no-vignettes --timings GeneNetworkBuilder_1.52.0.tar.gz StartedAt: 2025-11-21 10:58:28 -0000 (Fri, 21 Nov 2025) EndedAt: 2025-11-21 11:00:16 -0000 (Fri, 21 Nov 2025) EllapsedTime: 108.1 seconds RetCode: 0 Status: OK CheckDir: GeneNetworkBuilder.Rcheck Warnings: 0