Package: GeneNetworkBuilder Version: 1.52.0 Command: /home/biocbuild/R/R/bin/R CMD build --keep-empty-dirs --no-resave-data GeneNetworkBuilder StartedAt: 2025-11-21 02:37:36 -0000 (Fri, 21 Nov 2025) EndedAt: 2025-11-21 02:46:32 -0000 (Fri, 21 Nov 2025) EllapsedTime: 535.6 seconds RetCode: 0 Status: OK PackageFile: GeneNetworkBuilder_1.52.0.tar.gz PackageFileSize: 7.702 MiB