Package: GeneNetworkBuilder Version: 1.52.0 Command: /home/biocbuild/bbs-3.22-bioc/R/bin/R CMD check --install=check:GeneNetworkBuilder.install-out.txt --library=/home/biocbuild/bbs-3.22-bioc/R/site-library --timings GeneNetworkBuilder_1.52.0.tar.gz StartedAt: 2025-11-21 00:37:58 -0500 (Fri, 21 Nov 2025) EndedAt: 2025-11-21 00:48:46 -0500 (Fri, 21 Nov 2025) EllapsedTime: 648.6 seconds RetCode: 0 Status: OK CheckDir: GeneNetworkBuilder.Rcheck Warnings: 0