Package: GeneNetworkBuilder Version: 1.52.0 Command: /home/biocbuild/bbs-3.22-bioc/R/bin/R CMD build --keep-empty-dirs --no-resave-data --md5 GeneNetworkBuilder StartedAt: 2025-11-20 18:36:33 -0500 (Thu, 20 Nov 2025) EndedAt: 2025-11-20 18:45:39 -0500 (Thu, 20 Nov 2025) EllapsedTime: 545.5 seconds RetCode: 0 Status: OK PackageFile: GeneNetworkBuilder_1.52.0.tar.gz PackageFileSize: 7.379 MiB