Package: GeneMeta Version: 1.81.0 Command: /home/biocbuild/R/R/bin/R CMD check --install=check:GeneMeta.install-out.txt --library=/home/biocbuild/R/R/site-library --no-vignettes --timings GeneMeta_1.81.0.tar.gz StartedAt: 2025-10-17 09:19:22 -0000 (Fri, 17 Oct 2025) EndedAt: 2025-10-17 09:20:49 -0000 (Fri, 17 Oct 2025) EllapsedTime: 87.0 seconds RetCode: 0 Status: OK CheckDir: GeneMeta.Rcheck Warnings: 0