Package: GeneMeta Version: 1.82.0 Command: /home/biocbuild/bbs-3.22-bioc/R/bin/R CMD INSTALL GeneMeta StartedAt: 2025-11-06 15:29:08 -0500 (Thu, 06 Nov 2025) EndedAt: 2025-11-06 15:29:25 -0500 (Thu, 06 Nov 2025) EllapsedTime: 16.6 seconds RetCode: 0 Status: OK