Package: GeneMeta Version: 1.82.0 Command: /Library/Frameworks/R.framework/Resources/bin/R CMD build --keep-empty-dirs --no-resave-data GeneMeta StartedAt: 2025-11-03 17:07:25 -0500 (Mon, 03 Nov 2025) EndedAt: 2025-11-03 17:08:05 -0500 (Mon, 03 Nov 2025) EllapsedTime: 40.0 seconds RetCode: 0 Status: OK PackageFile: GeneMeta_1.82.0.tar.gz PackageFileSize: 2.703 MiB