Package: GeneMeta Version: 1.82.0 Command: rm -rf GeneMeta.buildbin-libdir && mkdir GeneMeta.buildbin-libdir && /Users/biocbuild/BBS/utils/build-universal.sh GeneMeta_1.82.0.tar.gz /Library/Frameworks/R.framework/Resources/bin/R GeneMeta.buildbin-libdir StartedAt: 2025-11-04 01:41:36 -0500 (Tue, 04 Nov 2025) EndedAt: 2025-11-04 01:42:04 -0500 (Tue, 04 Nov 2025) EllapsedTime: 27.6 seconds RetCode: 0 Status: OK PackageFile: GeneMeta_1.82.0.tgz PackageFileSize: 2.738 MiB