Package: GenVisR Version: 1.40.0 Command: /home/biocbuild/bbs-3.21-bioc/R/bin/R CMD check --install=check:GenVisR.install-out.txt --library=/home/biocbuild/bbs-3.21-bioc/R/site-library --timings GenVisR_1.40.0.tar.gz StartedAt: 2025-09-28 23:42:38 -0400 (Sun, 28 Sep 2025) EndedAt: 2025-09-28 23:52:42 -0400 (Sun, 28 Sep 2025) EllapsedTime: 603.9 seconds RetCode: 1 Status: ERROR CheckDir: GenVisR.Rcheck Warnings: NA