Package: GenVisR Version: 1.40.0 Command: /Library/Frameworks/R.framework/Resources/bin/R CMD check --install=check:GenVisR.install-out.txt --library=/Library/Frameworks/R.framework/Resources/library --no-vignettes --timings GenVisR_1.40.0.tar.gz StartedAt: 2025-10-14 22:58:23 -0400 (Tue, 14 Oct 2025) EndedAt: 2025-10-14 23:07:47 -0400 (Tue, 14 Oct 2025) EllapsedTime: 564.0 seconds RetCode: 1 Status: ERROR CheckDir: GenVisR.Rcheck Warnings: NA