Package: GenVisR Version: 1.40.0 Command: rm -rf GenVisR.buildbin-libdir && mkdir GenVisR.buildbin-libdir && /Users/biocbuild/BBS/utils/build-universal.sh GenVisR_1.40.0.tar.gz /Library/Frameworks/R.framework/Resources/bin/R GenVisR.buildbin-libdir StartedAt: 2025-10-15 18:40:51 -0400 (Wed, 15 Oct 2025) EndedAt: 2025-10-15 18:41:58 -0400 (Wed, 15 Oct 2025) EllapsedTime: 66.3 seconds RetCode: 0 Status: OK PackageFile: GenVisR_1.40.0.tgz PackageFileSize: 3.405 MiB