Package: GeDi Version: 1.4.0 Command: chmod a+r GeDi -R && E:\biocbuild\bbs-3.21-bioc\R\bin\R.exe CMD build --keep-empty-dirs --no-resave-data GeDi StartedAt: 2025-08-14 19:16:43 -0400 (Thu, 14 Aug 2025) EndedAt: 2025-08-14 19:20:47 -0400 (Thu, 14 Aug 2025) EllapsedTime: 244.2 seconds RetCode: 0 Status: OK PackageFile: GeDi_1.4.0.tar.gz PackageFileSize: 3.413 MiB