Package: GateFinder Version: 1.29.0 Command: /home/biocbuild/R/R/bin/R CMD check --install=check:GateFinder.install-out.txt --library=/home/biocbuild/R/R/site-library --no-vignettes --timings GateFinder_1.29.0.tar.gz StartedAt: 2025-10-17 09:11:50 -0000 (Fri, 17 Oct 2025) EndedAt: 2025-10-17 09:13:22 -0000 (Fri, 17 Oct 2025) EllapsedTime: 92.1 seconds RetCode: 0 Status: WARNINGS CheckDir: GateFinder.Rcheck Warnings: 1