Package: GateFinder Version: 1.30.0 Command: /home/biocbuild/bbs-3.22-bioc/R/bin/R CMD INSTALL GateFinder StartedAt: 2025-11-09 15:14:01 -0500 (Sun, 09 Nov 2025) EndedAt: 2025-11-09 15:14:13 -0500 (Sun, 09 Nov 2025) EllapsedTime: 12.0 seconds RetCode: 0 Status: OK