Package: GateFinder Version: 1.30.0 Command: /home/biocbuild/bbs-3.22-bioc/R/bin/R CMD check --install=check:GateFinder.install-out.txt --library=/home/biocbuild/bbs-3.22-bioc/R/site-library --timings GateFinder_1.30.0.tar.gz StartedAt: 2025-11-09 23:55:34 -0500 (Sun, 09 Nov 2025) EndedAt: 2025-11-09 23:56:45 -0500 (Sun, 09 Nov 2025) EllapsedTime: 71.1 seconds RetCode: 0 Status: WARNINGS CheckDir: GateFinder.Rcheck Warnings: 1