Package: GateFinder Version: 1.30.0 Command: /home/biocbuild/bbs-3.22-bioc/R/bin/R CMD build --keep-empty-dirs --no-resave-data --md5 GateFinder StartedAt: 2025-11-09 17:47:44 -0500 (Sun, 09 Nov 2025) EndedAt: 2025-11-09 17:48:02 -0500 (Sun, 09 Nov 2025) EllapsedTime: 18.0 seconds RetCode: 0 Status: OK PackageFile: GateFinder_1.30.0.tar.gz PackageFileSize: 582.6 KiB