Package: GWENA Version: 1.20.0 Command: /home/biocbuild/bbs-3.22-bioc/R/bin/R CMD INSTALL GWENA StartedAt: 2025-11-20 16:37:37 -0500 (Thu, 20 Nov 2025) EndedAt: 2025-11-20 16:38:14 -0500 (Thu, 20 Nov 2025) EllapsedTime: 37.1 seconds RetCode: 0 Status: OK