Package: GWENA Version: 1.20.0 Command: /home/biocbuild/bbs-3.22-bioc/R/bin/R CMD check --install=check:GWENA.install-out.txt --library=/home/biocbuild/bbs-3.22-bioc/R/site-library --timings GWENA_1.20.0.tar.gz StartedAt: 2025-11-21 01:06:19 -0500 (Fri, 21 Nov 2025) EndedAt: 2025-11-21 01:16:53 -0500 (Fri, 21 Nov 2025) EllapsedTime: 634.7 seconds RetCode: 0 Status: WARNINGS CheckDir: GWENA.Rcheck Warnings: 2