Package: GWENA Version: 1.20.0 Command: /home/biocbuild/bbs-3.22-bioc/R/bin/R CMD build --keep-empty-dirs --no-resave-data --md5 GWENA StartedAt: 2025-11-17 21:24:54 -0500 (Mon, 17 Nov 2025) EndedAt: 2025-11-17 21:26:39 -0500 (Mon, 17 Nov 2025) EllapsedTime: 105.1 seconds RetCode: 0 Status: OK PackageFile: GWENA_1.20.0.tar.gz PackageFileSize: 4.806 MiB