Package: GWENA Version: 1.20.0 Command: /Library/Frameworks/R.framework/Resources/bin/R CMD INSTALL GWENA StartedAt: 2025-11-10 15:23:16 -0500 (Mon, 10 Nov 2025) EndedAt: 2025-11-10 15:23:32 -0500 (Mon, 10 Nov 2025) EllapsedTime: 15.4 seconds RetCode: 0 Status: OK