Package: GWENA Version: 1.20.0 Command: /Library/Frameworks/R.framework/Resources/bin/R CMD check --install=check:GWENA.install-out.txt --library=/Library/Frameworks/R.framework/Resources/library --no-vignettes --timings GWENA_1.20.0.tar.gz StartedAt: 2025-11-10 20:26:29 -0500 (Mon, 10 Nov 2025) EndedAt: 2025-11-10 20:31:06 -0500 (Mon, 10 Nov 2025) EllapsedTime: 277.3 seconds RetCode: 0 Status: WARNINGS CheckDir: GWENA.Rcheck Warnings: 2