Package: GWENA Version: 1.20.0 Command: /Library/Frameworks/R.framework/Resources/bin/R CMD build --keep-empty-dirs --no-resave-data GWENA StartedAt: 2025-11-10 16:39:23 -0500 (Mon, 10 Nov 2025) EndedAt: 2025-11-10 16:40:14 -0500 (Mon, 10 Nov 2025) EllapsedTime: 51.5 seconds RetCode: 0 Status: OK PackageFile: GWENA_1.20.0.tar.gz PackageFileSize: 4.691 MiB