Package: GWENA Version: 1.18.0 Command: /Library/Frameworks/R.framework/Resources/bin/R CMD INSTALL GWENA StartedAt: 2025-10-06 17:52:22 -0400 (Mon, 06 Oct 2025) EndedAt: 2025-10-06 17:53:10 -0400 (Mon, 06 Oct 2025) EllapsedTime: 48.2 seconds RetCode: 0 Status: OK