Package: GWENA Version: 1.18.0 Command: /Library/Frameworks/R.framework/Resources/bin/R CMD build --keep-empty-dirs --no-resave-data GWENA StartedAt: 2025-10-07 02:06:47 -0400 (Tue, 07 Oct 2025) EndedAt: 2025-10-07 02:09:07 -0400 (Tue, 07 Oct 2025) EllapsedTime: 140.0 seconds RetCode: 0 Status: OK PackageFile: GWENA_1.18.0.tar.gz PackageFileSize: 4.674 MiB