Package: GWENA Version: 1.18.0 Command: rm -rf GWENA.buildbin-libdir && mkdir GWENA.buildbin-libdir && /Users/biocbuild/BBS/utils/build-universal.sh GWENA_1.18.0.tar.gz /Library/Frameworks/R.framework/Resources/bin/R GWENA.buildbin-libdir StartedAt: 2025-10-08 21:13:56 -0400 (Wed, 08 Oct 2025) EndedAt: 2025-10-08 21:14:52 -0400 (Wed, 08 Oct 2025) EllapsedTime: 55.6 seconds RetCode: 0 Status: OK PackageFile: GWENA_1.18.0.tgz PackageFileSize: 4.664 MiB