Package: GWAS.BAYES Version: 1.19.0 Command: rm -rf GWAS.BAYES.buildbin-libdir && mkdir GWAS.BAYES.buildbin-libdir && F:\biocbuild\bbs-3.22-bioc\R\bin\R.exe CMD INSTALL --build --library=GWAS.BAYES.buildbin-libdir GWAS.BAYES_1.19.0.tar.gz StartedAt: 2025-08-15 10:26:31 -0400 (Fri, 15 Aug 2025) EndedAt: 2025-08-15 10:26:57 -0400 (Fri, 15 Aug 2025) EllapsedTime: 25.9 seconds RetCode: 0 Status: OK PackageFile: GWAS.BAYES_1.19.0.zip PackageFileSize: 2.01 MiB