Package: GWAS.BAYES Version: 1.20.0 Command: /home/biocbuild/bbs-3.22-bioc/R/bin/R CMD check --install=check:GWAS.BAYES.install-out.txt --library=/home/biocbuild/bbs-3.22-bioc/R/site-library --timings GWAS.BAYES_1.20.0.tar.gz StartedAt: 2025-11-11 00:31:14 -0500 (Tue, 11 Nov 2025) EndedAt: 2025-11-11 00:35:31 -0500 (Tue, 11 Nov 2025) EllapsedTime: 257.3 seconds RetCode: 0 Status: OK CheckDir: GWAS.BAYES.Rcheck Warnings: 0