Package: GWAS.BAYES Version: 1.20.0 Command: /home/biocbuild/bbs-3.22-bioc/R/bin/R CMD build --keep-empty-dirs --no-resave-data --md5 GWAS.BAYES StartedAt: 2025-11-10 18:07:45 -0500 (Mon, 10 Nov 2025) EndedAt: 2025-11-10 18:10:34 -0500 (Mon, 10 Nov 2025) EllapsedTime: 169.2 seconds RetCode: 0 Status: OK PackageFile: GWAS.BAYES_1.20.0.tar.gz PackageFileSize: 1.347 MiB