Package: GWAS.BAYES Version: 1.20.0 Command: /Library/Frameworks/R.framework/Resources/bin/R CMD check --install=check:GWAS.BAYES.install-out.txt --library=/Library/Frameworks/R.framework/Resources/library --no-vignettes --timings GWAS.BAYES_1.20.0.tar.gz StartedAt: 2025-11-03 21:44:55 -0500 (Mon, 03 Nov 2025) EndedAt: 2025-11-03 21:46:54 -0500 (Mon, 03 Nov 2025) EllapsedTime: 118.9 seconds RetCode: 0 Status: OK CheckDir: GWAS.BAYES.Rcheck Warnings: 0