Package: GUIDEseq Version: 1.39.0 Command: /home/biocbuild/R/R/bin/R CMD INSTALL GUIDEseq StartedAt: 2025-10-23 21:18:30 -0000 (Thu, 23 Oct 2025) EndedAt: 2025-10-23 21:19:40 -0000 (Thu, 23 Oct 2025) EllapsedTime: 69.6 seconds RetCode: 0 Status: OK