Package: GSVA Version: 2.3.1 Command: rm -rf GSVA.buildbin-libdir && mkdir GSVA.buildbin-libdir && F:\biocbuild\bbs-3.22-bioc\R\bin\R.exe CMD INSTALL --build --library=GSVA.buildbin-libdir GSVA_2.3.1.tar.gz StartedAt: 2025-08-15 10:26:17 -0400 (Fri, 15 Aug 2025) EndedAt: 2025-08-15 10:27:46 -0400 (Fri, 15 Aug 2025) EllapsedTime: 89.0 seconds RetCode: 0 Status: OK PackageFile: GSVA_2.3.1.zip PackageFileSize: 2.114 MiB