Package: GSVA Version: 2.4.0 Command: /Library/Frameworks/R.framework/Resources/bin/R CMD INSTALL GSVA StartedAt: 2025-11-03 15:51:52 -0500 (Mon, 03 Nov 2025) EndedAt: 2025-11-03 15:52:48 -0500 (Mon, 03 Nov 2025) EllapsedTime: 56.1 seconds RetCode: 0 Status: OK