Package: GSVA Version: 2.4.0 Command: /Library/Frameworks/R.framework/Resources/bin/R CMD build --keep-empty-dirs --no-resave-data GSVA StartedAt: 2025-11-03 17:17:25 -0500 (Mon, 03 Nov 2025) EndedAt: 2025-11-03 17:21:55 -0500 (Mon, 03 Nov 2025) EllapsedTime: 269.7 seconds RetCode: 0 Status: OK PackageFile: GSVA_2.4.0.tar.gz PackageFileSize: 3.34 MiB