Package: GSVA Version: 2.4.1 Command: /Library/Frameworks/R.framework/Resources/bin/R CMD INSTALL GSVA StartedAt: 2025-11-17 18:28:56 -0500 (Mon, 17 Nov 2025) EndedAt: 2025-11-17 18:29:12 -0500 (Mon, 17 Nov 2025) EllapsedTime: 16.3 seconds RetCode: 0 Status: OK