Package: GSVA Version: 2.4.1 Command: /Library/Frameworks/R.framework/Resources/bin/R CMD build --keep-empty-dirs --no-resave-data GSVA StartedAt: 2025-11-17 21:46:38 -0500 (Mon, 17 Nov 2025) EndedAt: 2025-11-17 21:48:12 -0500 (Mon, 17 Nov 2025) EllapsedTime: 94.0 seconds RetCode: 0 Status: OK PackageFile: GSVA_2.4.1.tar.gz PackageFileSize: 3.259 MiB