Package: GSVA Version: 2.4.1 Command: rm -rf GSVA.buildbin-libdir && mkdir GSVA.buildbin-libdir && /Users/biocbuild/BBS/utils/build-universal.sh GSVA_2.4.1.tar.gz /Library/Frameworks/R.framework/Resources/bin/R GSVA.buildbin-libdir StartedAt: 2025-11-18 15:40:35 -0500 (Tue, 18 Nov 2025) EndedAt: 2025-11-18 15:40:58 -0500 (Tue, 18 Nov 2025) EllapsedTime: 22.2 seconds RetCode: 0 Status: OK PackageFile: GSVA_2.4.1.tgz PackageFileSize: 3.169 MiB