Package: GSReg Version: 1.43.0 Command: /home/biocbuild/R/R/bin/R CMD check --install=check:GSReg.install-out.txt --library=/home/biocbuild/R/R/site-library --no-vignettes --timings GSReg_1.43.0.tar.gz StartedAt: 2025-10-17 09:52:46 -0000 (Fri, 17 Oct 2025) EndedAt: 2025-10-17 09:57:22 -0000 (Fri, 17 Oct 2025) EllapsedTime: 276.2 seconds RetCode: 0 Status: WARNINGS CheckDir: GSReg.Rcheck Warnings: 3