Package: GSReg Version: 1.43.0 Command: /home/biocbuild/R/R/bin/R CMD build --keep-empty-dirs --no-resave-data GSReg StartedAt: 2025-10-21 00:21:30 -0000 (Tue, 21 Oct 2025) EndedAt: 2025-10-21 00:23:11 -0000 (Tue, 21 Oct 2025) EllapsedTime: 101.1 seconds RetCode: 0 Status: OK PackageFile: GSReg_1.43.0.tar.gz PackageFileSize: 463.7 KiB