Package: GSReg Version: 1.43.0 Command: chmod a+r GSReg -R && F:\biocbuild\bbs-3.22-bioc\R\bin\R.exe CMD build --keep-empty-dirs --no-resave-data GSReg StartedAt: 2025-08-14 20:40:50 -0400 (Thu, 14 Aug 2025) EndedAt: 2025-08-14 20:42:42 -0400 (Thu, 14 Aug 2025) EllapsedTime: 112.3 seconds RetCode: 0 Status: OK PackageFile: GSReg_1.43.0.tar.gz PackageFileSize: 467 KiB