Package: GSReg Version: 1.44.0 Command: /home/biocbuild/bbs-3.22-bioc/R/bin/R CMD INSTALL GSReg StartedAt: 2025-11-06 16:01:44 -0500 (Thu, 06 Nov 2025) EndedAt: 2025-11-06 16:02:22 -0500 (Thu, 06 Nov 2025) EllapsedTime: 37.3 seconds RetCode: 0 Status: OK