Package: GSReg Version: 1.44.0 Command: /home/biocbuild/bbs-3.22-bioc/R/bin/R CMD build --keep-empty-dirs --no-resave-data --md5 GSReg StartedAt: 2025-11-06 18:01:23 -0500 (Thu, 06 Nov 2025) EndedAt: 2025-11-06 18:02:54 -0500 (Thu, 06 Nov 2025) EllapsedTime: 91.1 seconds RetCode: 0 Status: OK PackageFile: GSReg_1.44.0.tar.gz PackageFileSize: 470.6 KiB