Package: GSEAmining Version: 1.20.0 Command: /home/biocbuild/R/R/bin/R CMD check --install=check:GSEAmining.install-out.txt --library=/home/biocbuild/R/R/site-library --no-vignettes --timings GSEAmining_1.20.0.tar.gz StartedAt: 2025-11-18 10:35:59 -0000 (Tue, 18 Nov 2025) EndedAt: 2025-11-18 10:37:58 -0000 (Tue, 18 Nov 2025) EllapsedTime: 119.1 seconds RetCode: 0 Status: OK CheckDir: GSEAmining.Rcheck Warnings: 0