Package: GSEAmining Version: 1.20.0 Command: /home/biocbuild/R/R/bin/R CMD build --keep-empty-dirs --no-resave-data GSEAmining StartedAt: 2025-11-18 02:10:52 -0000 (Tue, 18 Nov 2025) EndedAt: 2025-11-18 02:12:05 -0000 (Tue, 18 Nov 2025) EllapsedTime: 73.0 seconds RetCode: 0 Status: OK PackageFile: GSEAmining_1.20.0.tar.gz PackageFileSize: 2.031 MiB